BEGIN:VCALENDAR
VERSION:2.0
PRODID:-//Visit Fort Myers Beach - ECPv4.6.19//NONSGML v1.0//EN
CALSCALE:GREGORIAN
METHOD:PUBLISH
X-WR-CALNAME:Visit Fort Myers Beach
X-ORIGINAL-URL:https://visitfortmyersbeach.co
X-WR-CALDESC:Events for Visit Fort Myers Beach
BEGIN:VEVENT
DTSTART;TZID=America/New_York:20150317T100000
DTEND;TZID=America/New_York:20150317T120000
DTSTAMP:20260422T211046
CREATED:20150316T184240Z
LAST-MODIFIED:20150316T184814Z
UID:3597-1426586400-1426593600@visitfortmyersbeach.co
SUMMARY:St. Patrick's Day Parade 2015 Fort Myers Beach
DESCRIPTION:Fort Myers Beach St Patrick’s Day Parade begins at 10am beginning from Santini Plaza and ending at the Catholic Church next to Lahaina Realty \n
URL:https://visitfortmyersbeach.co/event/st-patricks-day-parade-2015-fort-myers-beach/
LOCATION:Estero Blvd\, Fort Myers Beach\, FL\, 33931\, United States
ATTACH;FMTTYPE=image/jpeg:https://visitfortmyersbeach.co/wp-content/uploads/2015/03/St-Patricks-day-block-party-FB.jpg
END:VEVENT
END:VCALENDAR